BEGIN:VCALENDAR
VERSION:2.0
PRODID:-//hacksw/handcal//NONSGML v1.0//EN
BEGIN:VEVENT
SUMMARY:9h00 Marche Nordique Maryline tel 06 75 61 88 94 SETE Le Pont Levis envoi sms la veille
UID:d83bc493-eb0a-4514-b60e-5ddeadd6c7ad
DTSTART:20260407T070000Z
DTEND:20260407T100000Z
LOCATION:Localisation   
CATEGORIES:Sportif
STATUS:
URL;VALUE=URI:https://randothau.sportsregions.fr/evenements/2026/04/07/9h00-marche-nordique-maryline-tel-06-75-61-88-94-sete-le-pont-levis-envoi-sms-la-veille-2432483
END:VEVENT
END:VCALENDAR
