BEGIN:VCALENDAR
VERSION:2.0
PRODID:-//hacksw/handcal//NONSGML v1.0//EN
BEGIN:VEVENT
SUMMARY:09h00 Marche Nordique Francoise tel 06 61 85 74 55 Issanka envoi sms la veille
UID:ee36234b-69dd-4b28-b2a8-e352d22d3994
DTSTART:20260411T070000Z
DTEND:20260411T100000Z
LOCATION:Localisation   
CATEGORIES:Sportif
STATUS:
URL;VALUE=URI:https://randothau.sportsregions.fr/evenements/2026/04/11/09h00-marche-nordique-francoise-tel-06-61-85-74-55-issanka-envoi-sms-la-veille-2436011
END:VEVENT
END:VCALENDAR
