BEGIN:VCALENDAR
VERSION:2.0
PRODID:-//hacksw/handcal//NONSGML v1.0//EN
BEGIN:VEVENT
SUMMARY:changement Randonnee Eric : Cazevielle : Tour et ascension du Pic Saint Loup 10 km D+624 ibp=67 a 58 km de Balaruc Covoiturage=8€ Depart 8h30 Envoyer SMS la veille au 06 27 96 03 12
UID:873ff906-0d83-48c2-9d06-113d83edbd90
DTSTART:20260419T063000Z
DTEND:20260419T170000Z
LOCATION:Localisation   
CATEGORIES:Sportif
STATUS:
URL;VALUE=URI:https://randothau.sportsregions.fr/evenements/2026/04/19/changement-randonnee-eric-cazevielle-tour-et-ascension-du-pic-saint-loup-10-km-d624-ibp67-a-58-km-de-balaruc-covoiturage8eur-depart-8h30-envoyer-sms-la-veille-au-06-27-96-03-12-2431556
END:VEVENT
END:VCALENDAR
