BEGIN:VCALENDAR
VERSION:2.0
PRODID:-//hacksw/handcal//NONSGML v1.0//EN
BEGIN:VEVENT
SUMMARY:09h00 Marche Nordique Francoise tel 06 61 85 74 55 Frontignan La Cible envoi sms la veille
UID:4fa5a7a2-a5b4-4dd1-a61a-a5e1a26dc2f4
DTSTART:20260502T070000Z
DTEND:20260502T100000Z
LOCATION:Localisation   
CATEGORIES:Sportif
STATUS:
URL;VALUE=URI:https://randothau.sportsregions.fr/evenements/2026/05/02/09h00-marche-nordique-francoise-tel-06-61-85-74-55-frontignan-la-cible-envoi-sms-la-veille-2436018
END:VEVENT
END:VCALENDAR
