BEGIN:VCALENDAR
VERSION:2.0
PRODID:-//hacksw/handcal//NONSGML v1.0//EN
BEGIN:VEVENT
SUMMARY:09h00 Marche Nordique Claude Tel 06 51 73 81 65 POUSSAN envoi sms la veille
UID:c861dc74-c674-447f-992c-9bc6912d3ada
DTSTART:20260509T070000Z
DTEND:20260509T100000Z
LOCATION:Localisation   
CATEGORIES:Sportif
STATUS:
URL;VALUE=URI:https://randothau.sportsregions.fr/evenements/2026/05/09/09h00-marche-nordique-claude-tel-06-51-73-81-65-poussan-envoi-sms-la-veille-2435048
END:VEVENT
END:VCALENDAR
