BEGIN:VCALENDAR
VERSION:2.0
PRODID:-//hacksw/handcal//NONSGML v1.0//EN
BEGIN:VEVENT
SUMMARY:09h00 Marche Nordique  Gilles tel 06 51 31 48 12 Frontignan Port de Peche envoi sms la veille
UID:8ce9b547-6ef1-4669-8673-8beb4134f130
DTSTART:20260512T070000Z
DTEND:20260512T100000Z
LOCATION:Localisation   
CATEGORIES:Sportif
STATUS:
URL;VALUE=URI:https://randothau.sportsregions.fr/evenements/2026/05/12/09h00-marche-nordique-gilles-tel-06-51-31-48-12-frontignan-port-de-peche-envoi-sms-la-veille-2436021
END:VEVENT
END:VCALENDAR
