BEGIN:VCALENDAR
VERSION:2.0
PRODID:-//hacksw/handcal//NONSGML v1.0//EN
BEGIN:VEVENT
SUMMARY:09h00 Marche Nordique Francoise tel 06 61 85 74 55 Col de la Tortue envoi sms la veille
UID:83cfbcb8-2a10-42a2-9e8f-ecff1b39e980
DTSTART:20260516T070000Z
DTEND:20260516T100000Z
LOCATION:Localisation   
CATEGORIES:Sportif
STATUS:
URL;VALUE=URI:https://randothau.sportsregions.fr/evenements/2026/05/16/09h00-marche-nordique-francoise-tel-06-61-85-74-55-col-de-la-tortue-envoi-sms-la-veille-2436022
END:VEVENT
END:VCALENDAR
