BEGIN:VCALENDAR
VERSION:2.0
PRODID:-//hacksw/handcal//NONSGML v1.0//EN
BEGIN:VEVENT
SUMMARY:Rando Sante Claude :Boucle autour de Gabian et Fond de l'Oli 7,5km D115m " IBP 27 a 50km de Balaruc Covoiturage 7.5 euros Depart 13h45 de la base nautique envoyer SMS la veille au 06 51 73 81 65
UID:586663fc-3e79-4e01-8cae-0bb56144c164
DTSTART:20260519T114500Z
DTEND:20260519T170000Z
LOCATION:Localisation   
CATEGORIES:Sportif
STATUS:
URL;VALUE=URI:https://randothau.sportsregions.fr/evenements/2026/05/19/rando-sante-claude-boucle-autour-de-gabian-et-fond-de-loli-75km-d115m-ibp-27-a-50km-de-balaruc-covoiturage-75-euros-depart-13h45-de-la-base-nautique-envoyer-sms-la-veille-au-06-51-73-81-65-2431331
END:VEVENT
END:VCALENDAR
