BEGIN:VCALENDAR
VERSION:2.0
PRODID:-//hacksw/handcal//NONSGML v1.0//EN
BEGIN:VEVENT
SUMMARY:09h00 Marche Nordique Claude Tel 06 51 73 81 65 Issanka  envoi sms la veille
UID:6009b01c-0eb7-41d6-8446-2c9a8f2f6bb6
DTSTART:20260523T070000Z
DTEND:20260523T100000Z
LOCATION:Localisation   
CATEGORIES:Sportif
STATUS:
URL;VALUE=URI:https://randothau.sportsregions.fr/evenements/2026/05/23/09h00-marche-nordique-claude-tel-06-51-73-81-65-issanka-envoi-sms-la-veille-2435052
END:VEVENT
END:VCALENDAR
