BEGIN:VCALENDAR
VERSION:2.0
PRODID:-//hacksw/handcal//NONSGML v1.0//EN
BEGIN:VEVENT
SUMMARY:Randonnee Eric : Vailhes : Le Tour du Salagou 24 km D+220 ibp=68 a 60 km de Balaruc Covoiturage=8,5€ Depart 8h00 Envoyer SMS la veille au 06 27 96 03 12
UID:9f1951e2-0d8b-4c84-ae34-3848d40acf78
DTSTART:20260524T060000Z
DTEND:20260524T170000Z
LOCATION:Localisation   
CATEGORIES:Sportif
STATUS:
URL;VALUE=URI:https://randothau.sportsregions.fr/evenements/2026/05/24/randonnee-eric-vailhes-le-tour-du-salagou-24-km-d220-ibp68-a-60-km-de-balaruc-covoiturage85eur-depart-8h00-envoyer-sms-la-veille-au-06-27-96-03-12-2431558
END:VEVENT
END:VCALENDAR
