BEGIN:VCALENDAR
VERSION:2.0
PRODID:-//hacksw/handcal//NONSGML v1.0//EN
BEGIN:VEVENT
SUMMARY:Rando Sante Claude :Salagou  Le village de Celles 8Km D110m " IBP 26 a 30km de Balaruc Covoiturage 4.5 euros Depart 13h45 de la base nautique envoyer SMS la veille au 06 51 73 81 65
UID:306039a1-41c4-4c76-b4b3-90c0efde407d
DTSTART:20260602T114500Z
DTEND:20260602T170000Z
LOCATION:Localisation   
CATEGORIES:Sportif
STATUS:
URL;VALUE=URI:https://randothau.sportsregions.fr/evenements/2026/06/02/rando-sante-claude-salagou-le-village-de-celles-8km-d110m-ibp-26-a-30km-de-balaruc-covoiturage-45-euros-depart-13h45-de-la-base-nautique-envoyer-sms-la-veille-au-06-51-73-81-65-2431336
END:VEVENT
END:VCALENDAR
