BEGIN:VCALENDAR
VERSION:2.0
PRODID:-//hacksw/handcal//NONSGML v1.0//EN
BEGIN:VEVENT
SUMMARY:Rando Sante Claude S : Pouzolles au Canto Merle 6,15 km D+100 a 46 km de Balaruc Covoiturage=6,5€ Depart 13h45 Envoyer SMS la veille au 06 83 78 66 34
UID:00dc0459-139d-4e4f-bdca-a0eddbc1d30d
DTSTART:20260609T114500Z
DTEND:20260609T160000Z
LOCATION:Localisation   
CATEGORIES:Sportif
STATUS:
URL;VALUE=URI:https://randothau.sportsregions.fr/evenements/2026/06/09/rando-sante-claude-s-pouzolles-au-canto-merle-615-km-d100-a-46-km-de-balaruc-covoiturage65eur-depart-13h45-envoyer-sms-la-veille-au-06-83-78-66-34-2433113
END:VEVENT
END:VCALENDAR
