BEGIN:VCALENDAR
VERSION:2.0
PRODID:-//hacksw/handcal//NONSGML v1.0//EN
BEGIN:VEVENT
SUMMARY:9h00 Marche Nordique Maryline tel 06 75 61 88 94 Les Aresquiers envoi sms la veille
UID:2c49ca88-9843-4a9b-afa1-fa049db50519
DTSTART:20260616T070000Z
DTEND:20260616T100000Z
LOCATION:Localisation   
CATEGORIES:Sportif
STATUS:
URL;VALUE=URI:https://randothau.sportsregions.fr/evenements/2026/06/16/9h00-marche-nordique-maryline-tel-06-75-61-88-94-les-aresquiers-envoi-sms-la-veille-2432491
END:VEVENT
END:VCALENDAR
