BEGIN:VCALENDAR
VERSION:2.0
PRODID:-//hacksw/handcal//NONSGML v1.0//EN
BEGIN:VEVENT
SUMMARY:09h00 Marche Nordique Nathalie 06 66 38 76 29 parking du moto club la cible a frontignan envoi sms la veille
UID:bd24cfb0-a905-46cb-8866-557bc03650ae
DTSTART:20260620T070000Z
DTEND:20260620T100000Z
LOCATION:Localisation   
CATEGORIES:Sportif
STATUS:
URL;VALUE=URI:https://randothau.sportsregions.fr/evenements/2026/06/20/09h00-marche-nordique-nathalie-06-66-38-76-29-parking-du-moto-club-la-cible-a-frontignan-envoi-sms-la-veille-2436050
END:VEVENT
END:VCALENDAR
