BEGIN:VCALENDAR
VERSION:2.0
PRODID:-//hacksw/handcal//NONSGML v1.0//EN
BEGIN:VEVENT
SUMMARY:Randonnee Eric : Colombieres sur Orb : Gorges de Colombieres 11,5 km D+670 ibp=69 a 89 km de Balaruc Covoiturage=12,5€ Depart 8h30 Envoyer SMS la veille au 06 27 96 03 12
UID:49f455b7-2662-47c2-8c3c-a88ccf5001f9
DTSTART:20260621T063000Z
DTEND:20260621T170000Z
LOCATION:Localisation   
CATEGORIES:Sportif
STATUS:
URL;VALUE=URI:https://randothau.sportsregions.fr/evenements/2026/06/21/randonnee-eric-colombieres-sur-orb-gorges-de-colombieres-115-km-d670-ibp69-a-89-km-de-balaruc-covoiturage125eur-depart-8h30-envoyer-sms-la-veille-au-06-27-96-03-12-2431560
END:VEVENT
END:VCALENDAR
