BEGIN:VCALENDAR
VERSION:2.0
PRODID:-//hacksw/handcal//NONSGML v1.0//EN
BEGIN:VEVENT
SUMMARY:09h00 Marche Nordique Francoise tel 06 61 85 74 55 Les Aresquiers envoi sms la veille
UID:9687b163-ad79-4846-8ab9-1a63ff41a843
DTSTART:20260623T070000Z
DTEND:20260623T100000Z
LOCATION:Localisation   
CATEGORIES:Sportif
STATUS:
URL;VALUE=URI:https://randothau.sportsregions.fr/evenements/2026/06/23/09h00-marche-nordique-francoise-tel-06-61-85-74-55-les-aresquiers-envoi-sms-la-veille-2436028
END:VEVENT
END:VCALENDAR
