BEGIN:VCALENDAR
VERSION:2.0
PRODID:-//hacksw/handcal//NONSGML v1.0//EN
BEGIN:VEVENT
SUMMARY:Rando Sante Claude S : Montpellier : Sur la Mejanelle 6 km D+50 a 31 km de Balaruc Covoiturage=4,5€ Depart 13h45 Envoyer SMS la veille au 06 83 78 66 34
UID:2bf8c208-990e-4fc4-b251-c978c08aad8c
DTSTART:20260623T114500Z
DTEND:20260623T160000Z
LOCATION:Localisation   
CATEGORIES:Sportif
STATUS:
URL;VALUE=URI:https://randothau.sportsregions.fr/evenements/2026/06/23/rando-sante-claude-s-montpellier-sur-la-mejanelle-6-km-d50-a-31-km-de-balaruc-covoiturage45eur-depart-13h45-envoyer-sms-la-veille-au-06-83-78-66-34-2433114
END:VEVENT
END:VCALENDAR
