BEGIN:VCALENDAR
VERSION:2.0
PRODID:-//hacksw/handcal//NONSGML v1.0//EN
BEGIN:VEVENT
SUMMARY:09h00 Marche Nordique  Gilles tel 06 51 31 48 12 Issanka envoi sms la veille
UID:07e77f40-1902-43c4-af8b-c46cb666de55
DTSTART:20260627T070000Z
DTEND:20260627T100000Z
LOCATION:Localisation   
CATEGORIES:Sportif
STATUS:
URL;VALUE=URI:https://randothau.sportsregions.fr/evenements/2026/06/27/09h00-marche-nordique-gilles-tel-06-51-31-48-12-issanka-envoi-sms-la-veille-2436030
END:VEVENT
END:VCALENDAR
