BEGIN:VCALENDAR
VERSION:2.0
PRODID:-//hacksw/handcal//NONSGML v1.0//EN
BEGIN:VEVENT
SUMMARY:9h00 Marche Nordique Maryline Tel 06 75 61 88 94 Plan du Bassin Frontignan (Salle de l'Aire) envoi sms la veille
UID:07a221b8-de90-4d8e-b371-84c13162cea2
DTSTART:20260630T070000Z
DTEND:20260630T100000Z
LOCATION:Localisation   
CATEGORIES:Sportif
STATUS:
URL;VALUE=URI:https://randothau.sportsregions.fr/evenements/2026/06/30/9h00-marche-nordique-maryline-tel-06-75-61-88-94-plan-du-bassin-frontignan-salle-de-laire-envoi-sms-la-veille-2432493
END:VEVENT
END:VCALENDAR
